BEGIN:VCALENDAR
VERSION:2.0
PRODID:icalendar-ruby
CALSCALE:GREGORIAN
BEGIN:VEVENT
DTSTAMP:20210121T191312Z
UID:da07d327-d42b-4189-8f82-cd8534fed004
DTSTART;VALUE=DATE:20190904
DESCRIPTION:Property ID# 459857\, Locatoin:  Harcourts Paremata Office. \, 
 Time: 1:00PM
SUMMARY:Auction for 
END:VEVENT
END:VCALENDAR
