BEGIN:VCALENDAR
VERSION:2.0
PRODID:icalendar-ruby
CALSCALE:GREGORIAN
BEGIN:VEVENT
DTSTAMP:20210121T191311Z
UID:ceada475-35d0-489e-ac51-e1e9a19bcf2c
DTSTART;VALUE=DATE:20190925
DESCRIPTION:Property ID# 461266\, Locatoin: Harcourts Paremata Office (not 
 selling prior)\, Time: 1:00PM
SUMMARY:Auction for 
END:VEVENT
END:VCALENDAR
