BEGIN:VCALENDAR
VERSION:2.0
PRODID:icalendar-ruby
CALSCALE:GREGORIAN
BEGIN:VEVENT
DTSTAMP:20210121T190859Z
UID:9966732a-cd1e-4cb8-a897-cb145d9f2693
DTSTART;VALUE=DATE:20191003
DESCRIPTION:Property ID# 461270\, Locatoin: Harcourts Paraparaumu (will not
  be sold prior)\, Time: 12:00PM
SUMMARY:Auction for 
END:VEVENT
END:VCALENDAR
