BEGIN:VCALENDAR
VERSION:2.0
PRODID:icalendar-ruby
CALSCALE:GREGORIAN
BEGIN:VEVENT
DTSTAMP:20210121T191309Z
UID:80b43728-192c-42e6-9b48-4b7a7545bfae
DTSTART;VALUE=DATE:20191017
DESCRIPTION:Property ID# 462224\, Locatoin: Harcourts Paraparaumu Auction R
 oom (unless sold prior)\, Time: 12:00PM
SUMMARY:Auction for 
END:VEVENT
END:VCALENDAR
