BEGIN:VCALENDAR
VERSION:2.0
PRODID:icalendar-ruby
CALSCALE:GREGORIAN
BEGIN:VEVENT
DTSTAMP:20210121T190857Z
UID:ebf853b9-8a08-4b99-a94b-309fdc16d13e
DTSTART;VALUE=DATE:20191023
DESCRIPTION:Property ID# 462896\, Locatoin: Paremata Office\, Time: 12:00PM
SUMMARY:Auction for 
END:VEVENT
END:VCALENDAR
