BEGIN:VCALENDAR
VERSION:2.0
PRODID:icalendar-ruby
CALSCALE:GREGORIAN
BEGIN:VEVENT
DTSTAMP:20210121T191308Z
UID:4810c282-27a9-4b99-a0c3-2fe068d297e7
DTSTART;VALUE=DATE:20191121
DESCRIPTION:Property ID# 464274\, Locatoin: Harcourts Paraparaumu Auction R
 oom (not selling prior)\, Time: 12:00PM
SUMMARY:Auction for 
END:VEVENT
END:VCALENDAR
