BEGIN:VCALENDAR
VERSION:2.0
PRODID:icalendar-ruby
CALSCALE:GREGORIAN
BEGIN:VEVENT
DTSTAMP:20210121T190937Z
UID:e464b781-baeb-401d-be39-fa84193ba22e
DTSTART;VALUE=DATE:20191218
DESCRIPTION:Property ID# 468307\, Locatoin: Harcourts Paremata at 4pm (unle
 ss sold prior)\, Time: 12:00PM
SUMMARY:Auction for 
END:VEVENT
END:VCALENDAR
