BEGIN:VCALENDAR
VERSION:2.0
PRODID:icalendar-ruby
CALSCALE:GREGORIAN
BEGIN:VEVENT
DTSTAMP:20210121T190934Z
UID:a73af827-7e67-4bd3-a8a4-9b2c529e728f
DTSTART;VALUE=DATE:20200213
DESCRIPTION:Property ID# 470455\, Locatoin: Harcourts Paremata from 5pm (no
 t selling prior)\, Time: 12:00PM
SUMMARY:Auction for 
END:VEVENT
END:VCALENDAR
