BEGIN:VCALENDAR
VERSION:2.0
PRODID:icalendar-ruby
CALSCALE:GREGORIAN
BEGIN:VEVENT
DTSTAMP:20210121T190932Z
UID:4291bf2f-dc13-4996-8c41-92550d58c00c
DTSTART;VALUE=DATE:20200305
DESCRIPTION:Property ID# 472276\, Locatoin: Harcourts Paremata Office - 7 D
 olly Varden Crescent\, Paremata at 5pm (unless sold prior)\, Time: 5:00PM
SUMMARY:Auction for 
END:VEVENT
END:VCALENDAR
