BEGIN:VCALENDAR
VERSION:2.0
PRODID:icalendar-ruby
CALSCALE:GREGORIAN
BEGIN:VEVENT
DTSTAMP:20260424T112801Z
UID:85e52203-3639-44c1-8ca2-67fbf6cba7fb
DTSTART;VALUE=DATE:20200316
DESCRIPTION:Property ID# 474335\, Locatoin: Harcourts Paremata at 4pm (not 
 selling prior)\, Time: 4:00PM
SUMMARY:Auction for 
END:VEVENT
END:VCALENDAR
