BEGIN:VCALENDAR
VERSION:2.0
PRODID:icalendar-ruby
CALSCALE:GREGORIAN
BEGIN:VEVENT
DTSTAMP:20210121T190929Z
UID:d0ee1a80-c210-4c27-ad93-4b9c810e72bc
DTSTART;VALUE=DATE:20200325
DESCRIPTION:Property ID# 474337\, Locatoin: Harcourts Paremata Office - 7 D
 olly Varden Crescent\, Paremata (not selling prior)\, Time: 1:00PM
SUMMARY:Auction for 
END:VEVENT
END:VCALENDAR
