BEGIN:VCALENDAR
VERSION:2.0
PRODID:icalendar-ruby
CALSCALE:GREGORIAN
BEGIN:VEVENT
DTSTAMP:20210121T191306Z
UID:86b95c9a-304e-4387-ab2b-cc2108c316cb
DTSTART;VALUE=DATE:20200401
DESCRIPTION:Property ID# 475086\, Locatoin: Harcourts Paremata Office (not 
 selling prior)\, Time: 1:00PM
SUMMARY:Auction for 
END:VEVENT
END:VCALENDAR
