BEGIN:VCALENDAR
VERSION:2.0
PRODID:icalendar-ruby
CALSCALE:GREGORIAN
BEGIN:VEVENT
DTSTAMP:20210121T190856Z
UID:a8b287c4-bdf7-4391-908e-08e9462986d3
DTSTART;VALUE=DATE:20200604
DESCRIPTION:Property ID# 475805\, Locatoin: Harcourts Paremata @ 1pm\, Time
 : 1:00PM
SUMMARY:Auction for 
END:VEVENT
END:VCALENDAR
