BEGIN:VCALENDAR
VERSION:2.0
PRODID:icalendar-ruby
CALSCALE:GREGORIAN
BEGIN:VEVENT
DTSTAMP:20210121T191305Z
UID:dbcd2bb4-6c53-4a10-a2a0-28eba13f55aa
DTSTART;VALUE=DATE:20200513
DESCRIPTION:Property ID# 476520\, Locatoin: Harcourts Paremata Office 1.00p
 m (not selling  prior)\, Time: 1:00PM
SUMMARY:Auction for 
END:VEVENT
END:VCALENDAR
