BEGIN:VCALENDAR
VERSION:2.0
PRODID:icalendar-ruby
CALSCALE:GREGORIAN
BEGIN:VEVENT
DTSTAMP:20210121T190926Z
UID:4c6feb19-315e-4c8f-b0c4-b4486b5587b5
DTSTART;VALUE=DATE:20200624
DESCRIPTION:Property ID# 482170\, Locatoin: Harcourts Lower Hutt Office - 5
 16 High Street\, Lower Hutt\, Time: 12:00PM
SUMMARY:Auction for 
END:VEVENT
END:VCALENDAR
