BEGIN:VCALENDAR
VERSION:2.0
PRODID:icalendar-ruby
CALSCALE:GREGORIAN
BEGIN:VEVENT
DTSTAMP:20210121T190854Z
UID:769eb574-0088-490a-83cf-9f72ee18dc91
DTSTART;VALUE=DATE:20200629
DESCRIPTION:Property ID# 482175\, Locatoin: Harcourts Paremata @ 12MD \, Ti
 me: 12:00PM
SUMMARY:Auction for 
END:VEVENT
END:VCALENDAR
