BEGIN:VCALENDAR
VERSION:2.0
PRODID:icalendar-ruby
CALSCALE:GREGORIAN
BEGIN:VEVENT
DTSTAMP:20210121T191559Z
UID:57daa0fc-d58a-43fa-a1f0-159e8b1d2da9
DTSTART;VALUE=DATE:20200625
DESCRIPTION:Property ID# 482615\, Locatoin: Clark & Co Realty\, 7 Mana Espl
 anade\, Paremata\, Time: 1:00PM
SUMMARY:Auction for 
END:VEVENT
END:VCALENDAR
