BEGIN:VCALENDAR
VERSION:2.0
PRODID:icalendar-ruby
CALSCALE:GREGORIAN
BEGIN:VEVENT
DTSTAMP:20210121T190924Z
UID:6500d5f2-07e1-40a6-9013-b6a007e9102d
DTSTART;VALUE=DATE:20200717
DESCRIPTION:Property ID# 484691\, Locatoin: Harcourts Paremata Office - 7 D
 olly Varden Crescent\, Paremata (unless dold prior)\, Time: 4:00PM
SUMMARY:Auction for 
END:VEVENT
END:VCALENDAR
