BEGIN:VCALENDAR
VERSION:2.0
PRODID:icalendar-ruby
CALSCALE:GREGORIAN
BEGIN:VEVENT
DTSTAMP:20210121T190851Z
UID:9cbea646-cc49-4b2b-b4a9-3f8a9adf164d
DTSTART;VALUE=DATE:20201001
DESCRIPTION:Property ID# 488958\, Locatoin: Harcourts Paremata at 4pm\, Tim
 e: 4:00PM
SUMMARY:Auction for 
END:VEVENT
END:VCALENDAR
