BEGIN:VCALENDAR
VERSION:2.0
PRODID:icalendar-ruby
CALSCALE:GREGORIAN
BEGIN:VEVENT
DTSTAMP:20210121T190848Z
UID:8f13b2d3-b0c8-4547-b452-2f36ab57e0ee
DTSTART;VALUE=DATE:20201112
DESCRIPTION:Property ID# 492371\, Locatoin: Harcourts Paremata at 1pm\, Tim
 e: 1:00PM
SUMMARY:Auction for 
END:VEVENT
END:VCALENDAR
