BEGIN:VCALENDAR
VERSION:2.0
PRODID:icalendar-ruby
CALSCALE:GREGORIAN
BEGIN:VEVENT
DTSTAMP:20210121T191603Z
UID:2fe4404a-1972-4075-a2ef-36e767e28ede
DTSTART;VALUE=DATE:20201119
DESCRIPTION:Property ID# 494083\, Locatoin: Tommy's Mana\, 99 Mana Esplanad
 e\, Paremata\, Time: 1:00PM
SUMMARY:Auction for 
END:VEVENT
END:VCALENDAR
