BEGIN:VCALENDAR
VERSION:2.0
PRODID:icalendar-ruby
CALSCALE:GREGORIAN
BEGIN:VEVENT
DTSTAMP:20210121T191602Z
UID:8e4e80f4-3b3a-4547-abe0-02400e438438
DTSTART;VALUE=DATE:20201126
DESCRIPTION:Property ID# 494726\, Locatoin: Tommys Mana 99 Mana Esplanade P
 aremata \, Time: 1:00PM
SUMMARY:Auction for 
END:VEVENT
END:VCALENDAR
