BEGIN:VCALENDAR
VERSION:2.0
PRODID:icalendar-ruby
CALSCALE:GREGORIAN
BEGIN:VEVENT
DTSTAMP:20210121T191600Z
UID:381c038d-3a68-470f-be63-2ab181e459dc
DTSTART;VALUE=DATE:20201203
DESCRIPTION:Property ID# 495407\, Locatoin: Tommys Mana\, 99 Mana Esplanade
 \, Paremata\, Time: 1:00PM
SUMMARY:Auction for 
END:VEVENT
END:VCALENDAR
