BEGIN:VCALENDAR
VERSION:2.0
PRODID:icalendar-ruby
CALSCALE:GREGORIAN
BEGIN:VEVENT
DTSTAMP:20210121T190910Z
UID:9baa7416-76cf-4482-b1a8-62d4ea07f01e
DTSTART;VALUE=DATE:20201209
DESCRIPTION:Property ID# 495622\, Locatoin: Harcourts Paremata Office - 7 D
 olly Varden Crescent\, Paremata (not selling prior)\, Time: 5:00PM
SUMMARY:Auction for 
END:VEVENT
END:VCALENDAR
