BEGIN:VCALENDAR
VERSION:2.0
PRODID:icalendar-ruby
CALSCALE:GREGORIAN
BEGIN:VEVENT
DTSTAMP:20210121T190846Z
UID:bea8a32f-9b43-44fd-8bb7-06c46e612803
DTSTART;VALUE=DATE:20201217
DESCRIPTION:Property ID# 496378\, Locatoin: Harcourts Paremata @ 1pm\, Time
 : 1:00PM
SUMMARY:Auction for 
END:VEVENT
END:VCALENDAR
