BEGIN:VCALENDAR
VERSION:2.0
PRODID:icalendar-ruby
CALSCALE:GREGORIAN
BEGIN:VEVENT
DTSTAMP:20210121T190845Z
UID:3e61b092-4c5e-48c0-af0c-fbbe48ab1d7c
DTSTART;VALUE=DATE:20201221
DESCRIPTION:Property ID# 496380\, Locatoin: Harcourts Paremata @ 1pm\, Time
 : 12:00PM
SUMMARY:Auction for 
END:VEVENT
END:VCALENDAR
