BEGIN:VCALENDAR
VERSION:2.0
PRODID:icalendar-ruby
CALSCALE:GREGORIAN
BEGIN:VEVENT
DTSTAMP:20210121T190558Z
UID:de650eb9-9446-4437-8137-8ec0bf5a8a50
DTSTART;VALUE=DATE:20210203
DESCRIPTION:Property ID# 499291\, Locatoin: Harcourts Paremata Office - 7 D
 olly Varden Crescent\, Paremata (unless sold prior)\, Time: 5:00PM
SUMMARY:Auction for 
END:VEVENT
END:VCALENDAR
