BEGIN:VCALENDAR
VERSION:2.0
PRODID:icalendar-ruby
CALSCALE:GREGORIAN
BEGIN:VEVENT
DTSTAMP:20210121T190552Z
UID:f61d430f-e927-49d9-9f00-be69088beccd
DTSTART;VALUE=DATE:20210203
DESCRIPTION:Property ID# 499452\, Locatoin: Harcourts Paremata @ 1pm\, Time
 : 1:00PM
SUMMARY:Auction for 1 Sailmaker Close
END:VEVENT
END:VCALENDAR
