BEGIN:VCALENDAR
VERSION:2.0
PRODID:icalendar-ruby
CALSCALE:GREGORIAN
BEGIN:VEVENT
DTSTAMP:20210121T190550Z
UID:42ded492-bcaa-4c03-b359-2500e36cc716
DTSTART;TZID=Pacific/Auckland:20210124T130000
DTEND;TZID=Pacific/Auckland:20210124T134500
DESCRIPTION:Property ID# 499452
SUMMARY:Openhome for 1 Sailmaker Close
END:VEVENT
END:VCALENDAR
