BEGIN:VCALENDAR
VERSION:2.0
PRODID:icalendar-ruby
CALSCALE:GREGORIAN
BEGIN:VEVENT
DTSTAMP:20210121T190557Z
UID:4be69bed-c1aa-4f7d-8208-7f705d695add
DTSTART;TZID=Pacific/Auckland:20210124T140000
DTEND;TZID=Pacific/Auckland:20210124T144500
DESCRIPTION:Property ID# 499291
SUMMARY:Openhome for 
END:VEVENT
END:VCALENDAR
