BEGIN:VCALENDAR
VERSION:2.0
PRODID:icalendar-ruby
CALSCALE:GREGORIAN
BEGIN:VEVENT
DTSTAMP:20210121T190602Z
UID:50a355f2-05ae-4877-9a2d-bbbf648e7bf2
DTSTART;TZID=Pacific/Auckland:20210124T130000
DTEND;TZID=Pacific/Auckland:20210124T134500
DESCRIPTION:Property ID# 491617
SUMMARY:Openhome for 10 Oak Avenue
END:VEVENT
END:VCALENDAR
