BEGIN:VCALENDAR
VERSION:2.0
PRODID:icalendar-ruby
CALSCALE:GREGORIAN
BEGIN:VEVENT
DTSTAMP:20260423T000301Z
UID:4e846ea8-2b25-460e-8efa-884f879dc510
DTSTART;VALUE=DATE:20210428
DESCRIPTION:Property ID# 506987\, Locatoin: Harcourts Mana Office\, 7 Dolly
  Varden Crescent\, Mana\, 5026 Paremata\, Time: 11:00AM
SUMMARY:Auction for 
END:VEVENT
END:VCALENDAR
