BEGIN:VCALENDAR
VERSION:2.0
PRODID:icalendar-ruby
CALSCALE:GREGORIAN
BEGIN:VEVENT
DTSTAMP:20260421T082102Z
UID:2bcee6a8-60bc-4784-b941-cf66775850cc
DTSTART;VALUE=DATE:20230308
DESCRIPTION:Property ID# 551869\, Locatoin: Harcourts 7 Dolly Varden Cres\,
  Mana\, Time: 3:00PM
SUMMARY:Auction for 
END:VEVENT
END:VCALENDAR
