BEGIN:VCALENDAR
VERSION:2.0
PRODID:icalendar-ruby
CALSCALE:GREGORIAN
BEGIN:VEVENT
DTSTAMP:20260423T084702Z
UID:abe4346e-3754-4a48-a67d-5f82c720a3f7
DTSTART;VALUE=DATE:20230517
DESCRIPTION:Property ID# 555980\, Locatoin: Harcourts 7 Dolly Varden Cres\,
  Mana 5026\, Time: 12:00PM
SUMMARY:Auction for 
END:VEVENT
END:VCALENDAR
