BEGIN:VCALENDAR
VERSION:2.0
PRODID:icalendar-ruby
CALSCALE:GREGORIAN
BEGIN:VEVENT
DTSTAMP:20260421T082700Z
UID:797d735d-c099-47da-b5b6-0ea2813fdda6
DTSTART;VALUE=DATE:20230927
DESCRIPTION:Property ID# 562182\, Locatoin: (unless sold prior) Harcourts\,
  7 Dolly Varden Crescent\, Mana\, Time: 3:00PM
SUMMARY:Auction for 
END:VEVENT
END:VCALENDAR
